BEGIN:VCALENDAR
VERSION:2.0
PRODID:-//Indre Ostfold KFU//Kalender//NB
CALSCALE:GREGORIAN
METHOD:PUBLISH
X-WR-CALNAME:Indre Østfold KFU Mars 2026
X-WR-TIMEZONE:UTC
BEGIN:VEVENT
UID:calendar-event-1@kfuio.no
DTSTAMP:20260423T195928Z
SUMMARY:Muntlig høringsarena vedrørende forskrift om skolekretser
DTSTART:20260305T180000Z
DTEND:20260305T190000Z
LOCATION:Kommunestyresalen\, Indre Østfold rådhus
DESCRIPTION:Formål: \n\nMulighet for å kunne gi muntlig høringsinnspill på en arena hvor man også får høre andres perspektiver og synspunkter knyttet til forskrift om skolekretser \n\nMulighet for å stille spørsmål til forskriften som man ønsker belyst i saksbehandlingen fram mot endelig politisk behandling  \n\n\nMålgruppe: \n\nAlle foreldreutvalg ved kommunens skoler \nLokalråd\, lag\, foreninger e.l. som er berørt av endringen i forskrift om skolekretser \n\n\nDet er et åpent møte\, så det er selvsagt også åpent for ansatte\, foresatte\, politikere\, eller andre\n\ninnbyggere som ønsker å delta på møtet. \n\n\n\nFor å ha en oversikt over hvor mange stoler som bør settes fram er det påmelding. Her legger man inn hvem man representerer\, og hvor mange som deltar. \n\n\n\nPåmelding til muntlig høringsarena vedrørende forskrift skolekretser – Fyll ut skjema
CATEGORIES:Arbeidsmøte
URL:https://kfuio.no/arrangementer/muntlig-horingsarena-vedrorende-forskrift-om-skolekretser
STATUS:CONFIRMED
TRANSP:OPAQUE
END:VEVENT
END:VCALENDAR
